BEGIN:VCALENDAR
VERSION:2.0
PRODID:-// - ECPv6.1.2.2//NONSGML v1.0//EN
CALSCALE:GREGORIAN
METHOD:PUBLISH
X-ORIGINAL-URL:http://norfolktidewater.com
X-WR-CALDESC:Events for 
REFRESH-INTERVAL;VALUE=DURATION:PT1H
X-Robots-Tag:noindex
X-PUBLISHED-TTL:PT1H
BEGIN:VTIMEZONE
TZID:America/New_York
BEGIN:DAYLIGHT
TZOFFSETFROM:-0500
TZOFFSETTO:-0400
TZNAME:EDT
DTSTART:20210314T070000
END:DAYLIGHT
BEGIN:STANDARD
TZOFFSETFROM:-0400
TZOFFSETTO:-0500
TZNAME:EST
DTSTART:20211107T060000
END:STANDARD
BEGIN:DAYLIGHT
TZOFFSETFROM:-0500
TZOFFSETTO:-0400
TZNAME:EDT
DTSTART:20220313T070000
END:DAYLIGHT
BEGIN:STANDARD
TZOFFSETFROM:-0400
TZOFFSETTO:-0500
TZNAME:EST
DTSTART:20221106T060000
END:STANDARD
BEGIN:DAYLIGHT
TZOFFSETFROM:-0500
TZOFFSETTO:-0400
TZNAME:EDT
DTSTART:20230312T070000
END:DAYLIGHT
BEGIN:STANDARD
TZOFFSETFROM:-0400
TZOFFSETTO:-0500
TZNAME:EST
DTSTART:20231105T060000
END:STANDARD
BEGIN:DAYLIGHT
TZOFFSETFROM:-0500
TZOFFSETTO:-0400
TZNAME:EDT
DTSTART:20240310T070000
END:DAYLIGHT
BEGIN:STANDARD
TZOFFSETFROM:-0400
TZOFFSETTO:-0500
TZNAME:EST
DTSTART:20241103T060000
END:STANDARD
BEGIN:DAYLIGHT
TZOFFSETFROM:-0500
TZOFFSETTO:-0400
TZNAME:EDT
DTSTART:20250309T070000
END:DAYLIGHT
BEGIN:STANDARD
TZOFFSETFROM:-0400
TZOFFSETTO:-0500
TZNAME:EST
DTSTART:20251102T060000
END:STANDARD
END:VTIMEZONE
BEGIN:VEVENT
DTSTART;TZID=America/New_York:20230525T160000
DTEND;TZID=America/New_York:20230525T180000
DTSTAMP:20260422T183634
CREATED:20230502T200650Z
LAST-MODIFIED:20230515T175518Z
UID:423-1685030400-1685037600@norfolktidewater.com
SUMMARY:Vendor Fair: May 25\, 4-6 p.m.
DESCRIPTION: 
URL:http://norfolktidewater.com/event/vendor-fair-may-25-4-6-p-m/
END:VEVENT
BEGIN:VEVENT
DTSTART;VALUE=DATE:20220809
DTEND;VALUE=DATE:20220810
DTSTAMP:20260422T183634
CREATED:20220803T194706Z
LAST-MODIFIED:20220803T201041Z
UID:137-1660003200-1660089599@norfolktidewater.com
SUMMARY:MWBE Vendor Fair
DESCRIPTION:MDC-Vendor Fair flyer 8-9-22-drft4
URL:http://norfolktidewater.com/event/vendorfair080922/
END:VEVENT
BEGIN:VEVENT
DTSTART;TZID=America/New_York:20210310T130000
DTEND;TZID=America/New_York:20210310T150000
DTSTAMP:20260422T183634
CREATED:20210218T005112Z
LAST-MODIFIED:20210306T133941Z
UID:45-1615381200-1615388400@norfolktidewater.com
SUMMARY:Tidewater Gardens Redevelopment MWBE Virtual Vendor Fair
DESCRIPTION:
URL:http://norfolktidewater.com/event/tidewater-gardens-redevelopment-mwbe-fair/
LOCATION:Virtual Event\, Norfolk\, VA\, United States
END:VEVENT
BEGIN:VEVENT
DTSTART;VALUE=DATE:20210301
DTEND;VALUE=DATE:20260101
DTSTAMP:20260422T183634
CREATED:20210301T175853Z
LAST-MODIFIED:20230526T020805Z
UID:92-1614556800-1767225599@norfolktidewater.com
SUMMARY:Vendor Pre-Qualification
DESCRIPTION:
URL:http://norfolktidewater.com/event/vendor-prequalification/
END:VEVENT
END:VCALENDAR